BEGIN:VCALENDAR
VERSION:2.0
PRODID:-//Ypsilon Olive Oil - ECPv6.14.1//NONSGML v1.0//EN
CALSCALE:GREGORIAN
METHOD:PUBLISH
X-WR-CALNAME:Ypsilon Olive Oil
X-ORIGINAL-URL:https://ypsilonoliveoil.com
X-WR-CALDESC:Eventos para Ypsilon Olive Oil
REFRESH-INTERVAL;VALUE=DURATION:PT1H
X-Robots-Tag:noindex
X-PUBLISHED-TTL:PT1H
BEGIN:VTIMEZONE
TZID:UTC
BEGIN:STANDARD
TZOFFSETFROM:+0000
TZOFFSETTO:+0000
TZNAME:UTC
DTSTART:20260101T000000
END:STANDARD
END:VTIMEZONE
BEGIN:VEVENT
DTSTART;TZID=UTC:20260425T180000
DTEND;TZID=UTC:20260425T200000
DTSTAMP:20260422T134549
CREATED:20260413T090454Z
LAST-MODIFIED:20260413T094141Z
UID:6136-1777140000-1777147200@ypsilonoliveoil.com
SUMMARY:Taller: cosmética natural con AOVE y plantas
DESCRIPTION:El próximo 25 de abril tendrá lugar el taller “Taller de cosmética natural con AOVE y plantas” en Casa Ypsilon\, una experiencia pensada para descubrir cómo cuidar la piel de forma natural y consciente a través de ingredientes puros y beneficiosos para el bienestar. \nLa actividad estará impartida por Laura Yolanda Serrano\, quien guiará a los asistentes en el aprendizaje y elaboración de cremas y productos de cosmética natural utilizando AOVE (aceite de oliva virgen extra) y plantas\, aprovechando todas sus propiedades nutritivas y regeneradoras para la piel. \nSerá un espacio cercano y práctico para aprender\, experimentar y compartir conocimientos sobre el cuidado natural\, conectando naturaleza\, bienestar y autocuidado. \n📍 ¿Dónde?\nCasa Ypsilon – C. Cuatro Esquinas\, 45\, 05420 Sotillo de la Adrada\, Ávila \n🗓 Cuándo:\n25 de abril \n🕕 Hora:\n18:00 h \n💶 Inscripción:\n30 € \nUn encuentro perfecto para descubrir nuevas formas de cuidar tu piel con ingredientes naturales y aprender a elaborar tu propia cosmética. \n¡Te esperamos para compartir esta experiencia! \n¿Quieres apuntarte?\n📞 Confirmar asistencia: 608 74 58 19
URL:https://ypsilonoliveoil.com/evento/taller-cosmetica-natural-con-aove-y-plantas/
LOCATION:Casa Ypsilon\, Calle Cuatro Esquinas\, 45\, Sotillo de la Adrada\, Ávila\, 05420\, Spain
ATTACH;FMTTYPE=image/png:https://ypsilonoliveoil.com/wp-content/uploads/2026/04/cosmetica-natural.png
END:VEVENT
BEGIN:VEVENT
DTSTART;TZID=UTC:20260426T120000
DTEND;TZID=UTC:20260426T140000
DTSTAMP:20260422T134549
CREATED:20260413T101131Z
LAST-MODIFIED:20260413T102143Z
UID:6141-1777204800-1777212000@ypsilonoliveoil.com
SUMMARY:Cata de AOVE y productos gourmet en "La Casa de Pilar" el Domingo 26 de Abril
DESCRIPTION:El Domingo 26 de abril tendrá lugar una exclusiva cata en La Casa de Pilar\, una experiencia pensada para disfrutar de una mañana diferente en torno a la gastronomía y los sabores más selectos. \nLa actividad consistirá en una degustación guiada en la que descubriremos matices\, aromas y sensaciones\, aprendiendo a apreciar cada detalle de los productos presentados en un ambiente cercano y acogedor. \nDurante la cata\, los asistentes podrán disfrutar de una experiencia sensorial completa\, ideal tanto para quienes quieren iniciarse como para quienes ya disfrutan del mundo gourmet. \nAl finalizar la cata\, compartiremos un momento gastronómico con una degustación de productos gourmet\, creando un espacio ideal para disfrutar\, aprender y conversar alrededor de la cultura del aceite de oliva y los productos de cercanía. \n ¿Dónde?\nLa Casa de Pilar\nSotillo de la Adrada \n Cuándo:\nDomingo 26 de abril \n Hora:\nDe 12:00 a 14:00 \nLas plazas son limitadas\, por lo que es necesario reservar con antelación. \nUna oportunidad perfecta para disfrutar\, aprender y compartir un buen momento alrededor de la gastronomía. \n¡Os esperamos para vivir esta experiencia! \n¿Quieres apuntarte? Llama a Cristina al 686 09 91 22 para reservar tu plaza 
URL:https://ypsilonoliveoil.com/evento/cata-gastronomica-casa-de-pilar-sotillo/
LOCATION:La Casa de Pilar\, Av. Madrid\, 20\, Sotillo de la Adrada\, Ávila\, 05420\, Spain
ATTACH;FMTTYPE=image/png:https://ypsilonoliveoil.com/wp-content/uploads/2026/04/Cata-La-casa-de-Pilar.png
END:VEVENT
END:VCALENDAR