BEGIN:VCALENDAR
VERSION:2.0
PRODID:-//Ypsilon Olive Oil - ECPv6.14.1//NONSGML v1.0//EN
CALSCALE:GREGORIAN
METHOD:PUBLISH
X-ORIGINAL-URL:https://ypsilonoliveoil.com
X-WR-CALDESC:Eventos para Ypsilon Olive Oil
REFRESH-INTERVAL;VALUE=DURATION:PT1H
X-Robots-Tag:noindex
X-PUBLISHED-TTL:PT1H
BEGIN:VTIMEZONE
TZID:UTC
BEGIN:STANDARD
TZOFFSETFROM:+0000
TZOFFSETTO:+0000
TZNAME:UTC
DTSTART:20240101T000000
END:STANDARD
END:VTIMEZONE
BEGIN:VTIMEZONE
TZID:Europe/Paris
BEGIN:DAYLIGHT
TZOFFSETFROM:+0100
TZOFFSETTO:+0200
TZNAME:CEST
DTSTART:20240331T010000
END:DAYLIGHT
BEGIN:STANDARD
TZOFFSETFROM:+0200
TZOFFSETTO:+0100
TZNAME:CET
DTSTART:20241027T010000
END:STANDARD
END:VTIMEZONE
BEGIN:VEVENT
DTSTART;TZID=UTC:20250809T110000
DTEND;TZID=UTC:20250810T210000
DTSTAMP:20260422T122808
CREATED:20250610T094754Z
LAST-MODIFIED:20250722T113204Z
UID:3916-1754737200-1754859600@ypsilonoliveoil.com
SUMMARY:Ypsilon Olive Oil\, presente en el VI Festival de las Flores de Sotillo de la Adrada
DESCRIPTION:🫒 YPSILON OLIVE OIL\, PRESENTE EN EL VI FESTIVAL DE LAS FLORES DE SOTILLO DE LA ADRADA\, EN ÁVILA\n Ypsilon Olive Oil\, estará presente en el VI Festival de las flores de Sotillo de la Adrada\, Ávila\, un evento cultural y alimentario dedicado al encanto del verano\n📍 ¿Dónde? Sotillo de la Adrada\, Ávila \nPlaza de la Concordia \n📞 Tel: +34 91 866 00 02 \n🗓 Cuándo:Sábado 9 y domingo 10 de agosto   \n🕙 De 11:00 h a cierre  \nYpsilon Olive Oil  se prepara para participar en el VI Festival de las Flores ✨🌸 en Sotillo de la Adrada que\, como en ediciones anteriores\, será un éxito https://n9.cl/gjeoh.  \nEste evento\, dedicado a la naturaleza\, las flores\, la artesanía y el encanto del verano en el Valle del Tiétar\, será la ocasión perfecta para mostrar nuestros cuidados productos de aceite de oliva virgen extra de Jaén\, desde nuestros monovarietales hasta los aromatizados pasando por las mermeladas o las deliciosas perlas de AOVE. \nEstamos muy emocionados de formar parte de esta feria que celebra la belleza y la tradición de nuestra tierra. \n¡Os invitamos a acompañarnos y descubrir la magia de nuestra preciosa botella Hera https://n9.cl/xqpwr\, en un entorno lleno de vida y color! \n¡No os lo perdáis! Nos encantaría compartir con vosotros esta experiencia llena de naturaleza\, arte y sabor.  \n 
URL:https://ypsilonoliveoil.com/evento/ypsilon-olive-oil-presente-en-festival-de-las-flores-sotillo-de-la-adrada/
LOCATION:Sotillo de la Adrada\, Spain
CATEGORIES:Espacio Gourmet,gastronomia,Mercado artesano,Sabor,Tradición
ATTACH;FMTTYPE=image/jpeg:https://ypsilonoliveoil.com/wp-content/uploads/2025/06/MERCADO-DE-LAS-FLORES-.jpeg
END:VEVENT
BEGIN:VEVENT
DTSTART;TZID=UTC:20250809T100000
DTEND;TZID=UTC:20250809T150000
DTSTAMP:20260422T122808
CREATED:20250722T120505Z
LAST-MODIFIED:20250722T120552Z
UID:4664-1754733600-1754751600@ypsilonoliveoil.com
SUMMARY:Ypsilon Olive Oil en el Mercado del CID
DESCRIPTION:🫒 Ypsilon Olive Oil en el Mercadillo del CID\nEl próximo 3 de agosto\, Ypsilon Olive Oil estará presente en el Mercadillo del Cid de Castejón de Henares\, un evento que celebra la historia\, la artesanía y los sabores del pasado con una mirada al futuro. \n📍 ¿Dónde? Castejón de Henares\, Guadalajara \nAlrededores del Ayuntamiento \n📞 Tel: +34 615 40 03 34 \n🗓 Cuándo:Sábado 9  de agosto   \n🕙 De 19:00 a 23:00 h. \n🗓️ 9 de agosto📍 Castejón de Henares (Guadalajara) \nNos sumamos a esta jornada única con nuestra colección de aceites de oliva virgen extra\, elaborados con mimo y presentados en botellas de diseño que combinan tradición\, carácter y elegancia. \n🌿 Monovarietales y aromatizados infusionados con ingredientes naturales🫒 Producción artesanal con sello de calidad🎁 Ideas para regalar\, degustar o llevarte un pedacito del campo a casa \nVen a conocernos\, probar nuestros aceites y charlar con nosotras sobre olivos\, recetas\, y el arte de hacer las cosas bien.Porque el sabor de lo auténtico no pasa de moda.
URL:https://ypsilonoliveoil.com/evento/ypsilon-olive-oil-en-el-mercadillo-del-cid/
LOCATION:Castejon de Henares
CATEGORIES:Espacio Gourmet,gastronomia,Mercado artesano,Sabor,Tradición
ATTACH;FMTTYPE=image/jpeg:https://ypsilonoliveoil.com/wp-content/uploads/2025/07/MERCADILLO-DEL-CID.jpeg
ORGANIZER;CN="ACDCID":MAILTO:asociacioncasadelcid@gmail.com
END:VEVENT
BEGIN:VEVENT
DTSTART;TZID=UTC:20250803T190000
DTEND;TZID=UTC:20250803T230000
DTSTAMP:20260422T122808
CREATED:20250722T115116Z
LAST-MODIFIED:20250722T115314Z
UID:4661-1754247600-1754262000@ypsilonoliveoil.com
SUMMARY:Ypsilon Olive Oil en el Mercado de Mujeres Rurales con FADEMUR
DESCRIPTION:🫒 Ypsilon Olive Oil en el Mercado de Mujeres Rurales con FADEMUR\nEl próximo 3 de agosto\, Ypsilon Olive Oil estará presente en el Mercado de Mujeres Rurales organizado por FADEMUR\, una iniciativa que pone en valor el trabajo\, el talento y el compromiso de las emprendedoras del mundo rural.\n📍 ¿Dónde? Mozarambroz\, Toledo  \nPlaza de la Constitucion \n📞 Tel: +34 925397502 \n🗓 Cuándo:Domigo 3  de agosto   \n🕙 De 19:00 a 23:00 h. \nDurante esta jornada\, compartiremos espacio con otras mujeres productoras\, artesanas y creadoras\, mostrando lo mejor de nuestros territorios y nuestras historias.Nosotras llevaremos lo que mejor sabemos hacer: aceites de oliva virgen extra con alma. \nDiseño\, tradición y sabor concentrados en cada botella. \n🌿 Conoce nuestra gama de AOVEs monovarietales y aromatizados🎁 Descubre ideas de regalo gourmet✨ Déjate sorprender por nuestra propuesta: un homenaje al olivar\, al paisaje y al cuidado \nEstaremos encantadas de saludarte\, charlar contigo y ofrecerte una degustación de nuestros productos. \n¡Ven a visitarnos y apoya el emprendimiento rural con rostro de mujer!
URL:https://ypsilonoliveoil.com/evento/ypsilon-olive-oil-en-el-mercado-de-mujeres-rurales-con-fademur/
LOCATION:Mozarambroz
CATEGORIES:Espacio Gourmet,gastronomia,Mercado artesano,Sabor,Tradición
ATTACH;FMTTYPE=image/jpeg:https://ypsilonoliveoil.com/wp-content/uploads/2025/07/MOZARAMBROZ.jpeg
END:VEVENT
BEGIN:VEVENT
DTSTART;TZID=UTC:20250625T120000
DTEND;TZID=UTC:20250625T170000
DTSTAMP:20260422T122808
CREATED:20250522T100848Z
LAST-MODIFIED:20250522T101041Z
UID:3838-1750852800-1750870800@ypsilonoliveoil.com
SUMMARY:Taste Spain Londres
DESCRIPTION:🫒 YPSILON OLIVE OIL\, PRESENTE EN TASTE SPAIN LONDRES\nNos complace anunciar que Ypsilon Olive Oil participará en la próxima edición de Taste Spain Londres\, un evento que reúne lo mejor de la alimentación gourmet española en la capital británica. \n📍 ¿Dónde? The View in The Royal College of Surgeons of England \n38-43 Lincoln´s Inn Fields\, London\, WC2APE\, Reino Unido \n📞 Tel: +44 2078696703 \n🗓 Cuándo:Miércoles\, 25 de junio \n🕙 De 12:00 a 17:00 h \nEn este prestigioso evento\, tendremos el honor de mostrar al mundo nuestros exclusivos productos\, elaborados con pasión\, tradición y la máxima calidad. Será una oportunidad única para que conozcas de cerca nuestra forma de trabajar\, basada en la excelencia y el cuidado en cada paso del proceso. \n¡Te invitamos a visitarnos en Taste Spain Londres y descubrir el sabor auténtico y sofisticado de nuestro aceite de oliva virgen extra! Ven a conocernos\, degustar nuestros productos y vivir una experiencia gastronómica inolvidable. \n¡No te lo pierdas! Esperamos verte allí y compartir juntos la pasión por la calidad y la buena gastronomía 🫒
URL:https://ypsilonoliveoil.com/evento/londres/
LOCATION:Londres\, 38-43 Lincoln´s Inn Fields\, Londres\, United Kingdom
CATEGORIES:Espacio Gourmet,gastronomia,TASTE LONDRES
ATTACH;FMTTYPE=image/jpeg:https://ypsilonoliveoil.com/wp-content/uploads/2025/05/TASTE-SPAIN-LONDON.jpeg
END:VEVENT
BEGIN:VEVENT
DTSTART;TZID=UTC:20250607T110000
DTEND;TZID=UTC:20250608T170000
DTSTAMP:20260422T122808
CREATED:20250527T180438Z
LAST-MODIFIED:20250527T180503Z
UID:3855-1749294000-1749402000@ypsilonoliveoil.com
SUMMARY:FERIA AGROALIMENTARIA EL BARRACO
DESCRIPTION:🫒 YPSILON OLIVE OIL PARTICIPA EN LA II FERIA AGROALIMENTARIA INTERPROVINCIAL DE EL BARRACO\, EN ÁVILA.\n Ypsilon Olive Oil estará presente en la segunda edición de Feria Agroalimentaria interprovincial de El Barraco\, un evento que une el sabor y la tradición. \n📍 ¿Dónde? Centro Polivalente  \nPolígono La Peguera\, 6. El Barraco\, Ávila \n📞 Tel: +34 920 28 10 01 \n🗓 Cuándo:Sábado 7 y domingo 8 de junio   \n🕙 De 11:00 h a cierre  \nEl próximo mes de junio participaremos en la segunda feria agroalimentaria interprovincial de El Barraco\, Ávila. 🌿🫒 \nEn esta muestra\, donde más de 25 expositores mostrarán lo mejor de la tradición y el sabor\, tendremos la oportunidad de compartir la calidad de nuestros cuidados y exclusivos productos. Ypsilon Olive Oil no podía faltar en este evento que celebra la riqueza de la tierra y la pasión por la buena alimentación. \n¡Os esperamos para disfrutar juntos de lo mejor de nuestra gastronomía!
URL:https://ypsilonoliveoil.com/evento/feria-agroalimentaria-el-barraco/
LOCATION:El Barraco\, Polígono La Peguera\, 6\, El Barraco\, Ávila\, 05110\, Spain
CATEGORIES:Espacio Gourmet,gastronomia,Sabor,Tradición
ATTACH;FMTTYPE=image/jpeg:https://ypsilonoliveoil.com/wp-content/uploads/2025/05/BARRACO.jpeg
END:VEVENT
BEGIN:VEVENT
DTSTART;VALUE=DATE:20250524
DTEND;VALUE=DATE:20250525
DTSTAMP:20260422T122808
CREATED:20250512T115034Z
LAST-MODIFIED:20250512T115110Z
UID:3726-1748044800-1748131199@ypsilonoliveoil.com
SUMMARY:MERCADO DE LOS SENTIDOS
DESCRIPTION:🫒 YPSILON OLIVE OIL\, PRESENTE EN EL PRIMER MERCADO INCLUSIVO DE LA PROVINCIA DE ÁVILA\nNos complace anunciar que Ypsilon Olive Oil participará en la cuarta edición del Mercado de los Sentidos\, un evento lleno de magia que se realiza en el hermoso centro histórico de Piedralaves. \nComo no podría ser de otra manera\, estaremos ubicados en el sentido del gusto\, donde compartiremos espacio con más de veinte expositores en los que los asistentes podrán disfrutar de degustaciones y talleres gastronómicos que les permitirán descubrir nuevos sabores y recetas tradicionales. \nEste evento\, gana más fuerza cada año y se ha consolidado como el primer mercado inclusivo de toda la provincia de Ávila. En él todo el mundo tiene cabida y su pequeño espacio de disfrute. \nYpsilon Olive Oil se presenta en este mercado con orgullo y ofreciendo sus delicados productos de aceite de oliva virgen extra\, que están llenos de tradición\, trabajo y amor por el campo y por lo nuestro. Cada gota  refleja la pasión y el cuidado con el que cultivamos y elaboramos nuestro aceite\, honrando nuestras raíces y transmitiendo la esencia de nuestra tierra en cada envase. \n📍 ¿Dónde?PiedralavesÁvila \n🗓 Cuándo:Sábado 24 y domingo 25 de mayo \n🕙 De 10:00 a 23:00 h \nPresentaremos nuestros nuevos productos de Aceite de Oliva Virgen Extra (AOVE)\, elaborados con mimo\, tradición y un sello de calidad único. \nVen a descubrir la calidad y el sabor auténtico que Ypsilon Olive Oil trae a un espacio donde la tradición y el cariño por lo natural se unen en perfecta armonía. \n¡Te esperamos!
URL:https://ypsilonoliveoil.com/evento/mercadodelosentidos/
LOCATION:Piedralaves\, Plaza Agapito Eloy Lefler\, Piedralaves\, Avila\, 05440\, Spain
CATEGORIES:Espacio Gourmet,Mercado artesano,Mercado inclusivo
ATTACH;FMTTYPE=image/jpeg:https://ypsilonoliveoil.com/wp-content/uploads/2025/05/sentidos.jpg
END:VEVENT
BEGIN:VEVENT
DTSTART;VALUE=DATE:20250510
DTEND;VALUE=DATE:20250511
DTSTAMP:20260422T122808
CREATED:20250503T160904Z
LAST-MODIFIED:20250503T160904Z
UID:3678-1746835200-1746921599@ypsilonoliveoil.com
SUMMARY:CARAVANA CULTURAL DE LAS MUJERES RURALES
DESCRIPTION:🫒 YPSILON OLIVE OIL PARTICIPA EN LA CARAVANA CULTURAL DE LAS MUJERES RURALES\nNos complace anunciar que Ypsilon Olive Oil participará en la próxima edición de La Caravana Cultural de las Mujeres Rurales\, un festival itinerante y multidisciplinar que celebra el talento\, la creatividad y la fuerza transformadora de las mujeres rurales a través de la cultura. Impulsada y organizada por mujeres del medio rural\, esta caravana recorre distintos territorios llevando consigo una programación diversa que incluye\, entre otras actividades\, conciertos\, teatro\, talleres participativos y una feria de emprendimiento femenino. \n📍 ¿Dónde?Almendral de la Cañada\, Toledo \n🗓 Cuándo:Sábado 10 de mayo \n🕙 De 10:00 a 18:00 h \nPresentaremos nuestros nuevos productos de Aceite de Oliva Virgen Extra (AOVE)\, elaborados con mimo\, tradición y un sello de calidad único. \nVen a conocer de cerca la esencia de nuestro aceite\, catar nuestras novedades y compartir impresiones con compañeras emprendedoras. \n¡Te esperamos!
URL:https://ypsilonoliveoil.com/evento/caravana-cultural-de-las-mujeres/
LOCATION:Almendral de la Cañada\, Toledo\, 45631\, Spain
CATEGORIES:Caravana de Mujeres Rurales,Feria de Emprendimiento Femenino
ATTACH;FMTTYPE=image/jpeg:https://ypsilonoliveoil.com/wp-content/uploads/2025/04/CARAVANA-CULTURAL-DE-MUJERES-RURALES-.jpeg
END:VEVENT
BEGIN:VEVENT
DTSTART;TZID=UTC:20250429T080000
DTEND;TZID=UTC:20250429T180000
DTSTAMP:20260422T122808
CREATED:20250423T105946Z
LAST-MODIFIED:20250423T105946Z
UID:3669-1745913600-1745949600@ypsilonoliveoil.com
SUMMARY:Taste Spain París
DESCRIPTION:🫒 YPSILON OLIVE OIL PARTICIPA EN TASTE SPAIN PARÍS\nNos complace anunciar que Ypsilon Olive Oil estará presente en la próxima edición de Taste Spain París\, el evento que reúne lo mejor de la gastronomía española en la capital francesa. \n📍 ¿Dónde?Hotel Meliá Vendôme8 Rue Cambon\, 75001 París\, Francia📞 Tel: +33 1 44 77 54 00 \n🗓 Cuándo:Lunes\, 29 de abril🕙 De 10:00 a 18:00 h \nPresentaremos nuestros nuevos productos de Aceite de Oliva Virgen Extra (AOVE)\, elaborados con mimo\, tradición y un sello de calidad único. \nSi estás en París\, no pierdas la oportunidad de conocer de cerca la esencia de nuestro aceite\, catar nuestras novedades y compartir impresiones con profesionales del sector. \n¡Te esperamos!
URL:https://ypsilonoliveoil.com/evento/taste-spain-paris/
LOCATION:París\, 8 Rue Cambon\, 75001\, París\, París\, 75001\, France
ATTACH;FMTTYPE=image/jpeg:https://ypsilonoliveoil.com/wp-content/uploads/2025/04/unnamed.jpg
END:VEVENT
BEGIN:VEVENT
DTSTART;VALUE=DATE:20250203
DTEND;VALUE=DATE:20250208
DTSTAMP:20260422T122808
CREATED:20250201T145616Z
LAST-MODIFIED:20250201T145616Z
UID:3359-1738540800-1738972799@ypsilonoliveoil.com
SUMMARY:PRODEXPO 2025 MOSCÚ
DESCRIPTION:Prodexpo: la gran feria internacional de alimentos y bebidas en Rusia y Europa del Este \n32ª Exposición Internacional de Alimentos\, Bebidas y Materias Primas Alimentarias \nProdexpo presenta productos alimenticios de todo el mundo\, desde alimentos y bebidas esenciales hasta especialidades exquisitas\, así como alimentos orgánicos\, deportivos y saludables\, halal\, kosher y productos exóticos. \nYpsilon Olive Oil tiene el privilegio de acudir como invitado a esta maravillosa exposición en la que fabricantes de todo el mundo confluirán con sus nuevos productos\, marcas y logos en la mayor exposición alimentaria de Rusia. \n¡No te pierdas los detalles en nuestras redes sociales! \nhttps://www.instagram.com/ypsilon_olive_oil/
URL:https://ypsilonoliveoil.com/evento/prodexpo-2025-moscu/
LOCATION:Moscow\, 14\, Krasnopresnenskaya nab\, Moscow\, Moscow\, 123100\, Russian Federation
ATTACH;FMTTYPE=image/png:https://ypsilonoliveoil.com/wp-content/uploads/2025/02/PRODEXPO.png
ORGANIZER;CN="EXPOCENTRE":MAILTO:centr@expocentr.ru
END:VEVENT
BEGIN:VEVENT
DTSTART;TZID=UTC:20250201T083000
DTEND;TZID=UTC:20250201T180000
DTSTAMP:20260422T122808
CREATED:20250201T121911Z
LAST-MODIFIED:20250201T121911Z
UID:3349-1738398600-1738432800@ypsilonoliveoil.com
SUMMARY:Mercado de Artesanía y Antigüedades "San Jerónimo"
DESCRIPTION:El Mercadillo Medieval de San Jerónimo te permitirá vivir una experiencia medieval de lo más interesante. Una de las actividades que no te puedes perder en tu próxima escapada. ¿Te apuntas? \nNo faltará ocasión para asistir a este mercado\, puesto que se celebra\, en Talavera de la Reina (Toledo)\, cada primer sábado de mes. \nNacido a partir de las raíces de la feria franca concedida por Sancho IV en 1294 (hay que pensar que siempre ha sido esta zona de mucho trasiego ganadero)\, este mercado se extiende por las calles y plazas del centro histórico de la ciudad\, pegado a las murallas\, entre iglesias y conventos y cerca\, muy cerca\, del imprescindible Museo de Cerámica Ruiz de Luna. \nPaseando por las calles San Agustín el Viejo\, San Andrés y Pescaderías\, el visitante encontrará diversos productos de artesanía tradicional (y no sólo la celebérrima cerámica local\, sino también forja\, cuero…)\, juegos para niños\, actuaciones teatralizadas en la calle\, visitas guiadas a monumentos…y\, cómo no: puestos de comida en los que conocer la gastronomía de la zona. \nY es que los golosos encontrarán en el mercado de San Jerónimo\, más de una excusa (y de diez) para acercarse. Aquí podrán comprar (y degustar) pichones\, perdiz\, cordero\, venado\, jabalí\, liebre\, carillas y sandías de Velada\, quesos y mieles de la Jara\, lechugas de Alcaudete\, garbanzos de Las Herencias\, embutidos de Bayuela\, castañas de El Real\, higos de Cebolla\, AOVE Ypsilon de Jaén\, variados dulces de sartén y horno…\, todo regado con vinos de Montearagón y Valdepusa o aguas minerales de Belvís y Calera. \n¿Quieres pasar un sábado entretenido y lleno de actividades? Pásate por el mercadillo medieval de San Jerónimo y trasládate a la Edad Media.
URL:https://ypsilonoliveoil.com/evento/mercado-de-artesania-y-antiguedades-san-jeronimo/
LOCATION:Talavera de la Reina\, Calle San Agustín el Viejo 4\, Talavera de la Reina\, Toledo\, 45600\, Spain
ATTACH;FMTTYPE=image/jpeg:https://ypsilonoliveoil.com/wp-content/uploads/2025/02/QERCYGELTVMJBNQ26ILUPEAZLA.jpg
END:VEVENT
BEGIN:VEVENT
DTSTART;VALUE=DATE:20250201
DTEND;VALUE=DATE:20250203
DTSTAMP:20260422T122808
CREATED:20250201T123919Z
LAST-MODIFIED:20250201T123919Z
UID:3354-1738368000-1738540799@ypsilonoliveoil.com
SUMMARY:Feria de San Blas en Gradefes
DESCRIPTION:¡Gradefes ya cuenta los días para vivir la tradicional Feria de San Blas 2025! \n  \nEl Ayuntamiento ya tiene preparado el programa oficial de actos y el cartel para la edición de este año que se celebrará los días 1 y 2 de febrero y que ofrecerá multitud de actividades donde la agroalimentación\, gastronomía\, ganado y perros serán los grandes protagonistas. \nDurante este sábado y domingo\, cientos de visitantes se acercarán a la villa de la comarca de Rueda para disfrutar del concurso de ganado\, el concurso de razas autóctonas caninas\, de tradiciones como la veneración de la reliquia de San Blas\, degustaciones\, y por supuesto\, fiesta y baile. \nAdemás\, se contará con una verbena durante la jornada del sábado con hasta tres actuaciones desde las 20:30 horas\, así como con un baile a cargo de un trío musical en la tarde del domingo\, que cerrará los festejos de esta nueva edición. \nProgramación oficial Feria de San Blas 2025:  \n– Sábado\, 1 de febrero:  \n18:00 a 19:00 horas – Espectáculo de magia. \n18:30 horas – Apertura de la tasca. \n20:30 a 22:30 horas – Actuación del “Probe Miguel” \n00:00 a 02:00 horas – Concierto “Malditos Pendejos”. \n02:00 a 05:00 horas – Actuación de Dj Murciego. \n  \n– Domingo\, 2 de febrero:  \n09:00 horas- Llegada de participantes a “El Sestil”. \n10:00 horas- Comienzo del concurso-exposición de ganado. \n12:00 horas- Eucaristía y veneración de la reliquia de San Blas en el Monasterio de Santa María La Real de Gradefes\, con entrega del bollo de San Blas. \n12:45 horas- Recepción de autoridades en el Ayuntamiento. \n13:30 horas- Entrega de premios y degustación del menú “San Blas” (cecina de chivo\, morcilla leonesa y chorizo\, pan\, postre\, bebida\, en plato de barro – 8 euros por persona – venta de tickets en Ayto. Gradefes y en la carpa). \n17:00 horas- Baile de tarde amenizado por el “Trío Medianoche”.
URL:https://ypsilonoliveoil.com/evento/feria-de-san-blas-en-gradefes/
LOCATION:Gradefes\, Calle El Sestil\, Gradefes\, León\, 24160\, Spain
ATTACH;FMTTYPE=image/webp:https://ypsilonoliveoil.com/wp-content/uploads/2025/02/cartel-gradefes.webp
END:VEVENT
BEGIN:VEVENT
DTSTART;VALUE=DATE:20250117
DTEND;VALUE=DATE:20250120
DTSTAMP:20260422T122808
CREATED:20250115T173700Z
LAST-MODIFIED:20250115T173700Z
UID:3336-1737072000-1737331199@ypsilonoliveoil.com
SUMMARY:SOUVENIR EXPOSPAIN
DESCRIPTION:SOUVENIR EXPOSPAIN 2025 \n¡La cita imprescindible para el sector de souvenirs y regalos turísticos! \nYpsilon Olive Oil tiene el placer de invitarle a participar en SOUVENIR EXPOSPAIN 2025\, la única feria profesional dedicada exclusivamente al sector de souvenirs y regalos turísticos en España. \n📅 Fecha: 17-19 Enero\n📍 Lugar: Fira Montjüic\, Barcelona\n👥 Dirigido a: Tiendas\, distribuidores y profesionales del sector de souvenirs y regalos turísticos \n¿Por qué asistir? \n\nDescubra las últimas tendencias e innovaciones en productos turísticos.\nEstablezca contactos con fabricantes\, distribuidores y proveedores clave.\nExplore soluciones sostenibles y productos ecológicos adaptados al mercado turístico.\n\nInscripción: La entrada es gratuita para profesionales del sector. Regístrese ahora en nuestra web oficial: www.souvenirexpospain.com \nContacto:\nCorreo electrónico: info@rotaexhibitions.es\nTeléfono: +34 930130714 \n🌟 No pierda la oportunidad de formar parte del evento más relevante del sector souvenirs y regalos turísticos. 🌟 \n👉 ¡Le esperamos en SOUVENIR EXPOSPAIN 2025!
URL:https://ypsilonoliveoil.com/evento/souvenir-expospain/
LOCATION:FIRA MONTJUIC\, Avenida de la Reina María Cristina\, Sants Monjüic\, Barcelona\, 08004\, Spain
ATTACH;FMTTYPE=image/jpeg:https://ypsilonoliveoil.com/wp-content/uploads/2025/01/Invitacion-Souvenir-Expo-Spain-17-al-19-de-enero_page-0001-scaled.jpg
END:VEVENT
BEGIN:VEVENT
DTSTART;TZID=UTC:20241228T110000
DTEND;TZID=UTC:20241228T210000
DTSTAMP:20260422T122808
CREATED:20241217T080700Z
LAST-MODIFIED:20241217T080700Z
UID:3246-1735383600-1735419600@ypsilonoliveoil.com
SUMMARY:NAVIDAD EN CASAVIEJA
DESCRIPTION:🌟 ¡Próximo Evento: Mercado Navideño de Casavieja! 🎄 \nLa magia de la Navidad llega a Casavieja con su encantador Mercado Navideño. Ypsilon estará presente con su AOVE Gourmet de Calidad Superior de la nueva cosecha y sus maderas de olivo únicas y exclusivas\, ideales para regalos especiales o para dar un toque único a tu hogar. \n📅 Fecha: 28 de Diciembre\n📍 Lugar: Casavieja (Plaza de San Bartolomé) \n¡Te esperamos para descubrir productos únicos y celebrar la Navidad juntos! ✨
URL:https://ypsilonoliveoil.com/evento/navidad-en-casavieja/
LOCATION:Casavieja\, Plaza de San Bartolomé\, Casavieja\, Ávila\, 05450\, Spain
ATTACH;FMTTYPE=image/jpeg:https://ypsilonoliveoil.com/wp-content/uploads/2024/12/Mercado-Casavieja-navideno.jpeg
END:VEVENT
BEGIN:VEVENT
DTSTART;TZID=UTC:20241228T110000
DTEND;TZID=UTC:20241228T190000
DTSTAMP:20260422T122808
CREATED:20241217T074313Z
LAST-MODIFIED:20241217T074313Z
UID:3242-1735383600-1735412400@ypsilonoliveoil.com
SUMMARY:MERCADO NAVIDEÑO DE PEDRO BERNARDO
DESCRIPTION:🌟 ¡Próximo Evento: Mercado Navideño de Pedro Bernardo! 🎄 \nLa Navidad llega a Pedro Bernardo con su tradicional Mercado Navideño\, y Ypsilon estará presente con su AOVE Gourmet de Calidad Superior de la nueva cosecha y sus maderas de olivo únicas y exclusivas\, perfectas para sorprender con regalos únicos o dar un toque especial a tu hogar. \n📅 Fecha: 28 de Diciembre\n📍 Lugar: Pedro Bernardo \n¡No te lo pierdas! Ven a disfrutar de productos excepcionales y vive la magia de la Navidad. ✨ \nOrganiza: Estación del Arte Gredos
URL:https://ypsilonoliveoil.com/evento/mercado-navideno-de-pedro-bernardo/
LOCATION:Pedro Bernardo\, Plaza de Toros\, Pedro Bernardo\, Ávila\, 05470\, Spain
ATTACH;FMTTYPE=image/jpeg:https://ypsilonoliveoil.com/wp-content/uploads/2024/12/Mercado-navideno-Pedro.jpeg
END:VEVENT
BEGIN:VEVENT
DTSTART;TZID=UTC:20241221T110000
DTEND;TZID=UTC:20241221T110000
DTSTAMP:20260422T122808
CREATED:20241217T062605Z
LAST-MODIFIED:20241217T063945Z
UID:3236-1734778800-1734778800@ypsilonoliveoil.com
SUMMARY:NAVIDAD EN PIEDRALAVES
DESCRIPTION:  \n🌟 ¡Próximo Evento: Mercado Navideño de Piedralaves! 🎄 \nEste año\, disfruta de la magia de la Navidad en el Mercado Navideño de Piedralaves. Ypsilon estará presente con su AOVE Gourmet Calidad Superior de la nueva cosecha y sus maderas de olivo únicas y exclusivas\, perfectas para regalos especiales o para dar un toque de distinción a tu hogar. \n📅 Fecha: 21 de Diciembre\n📍 Lugar: Plaza de la Constitución de Piedralaves \n¡Ven a descubrir productos excepcionales\, ideales para esta temporada festiva! \nDurante todo el día podrás disfrutar de TALLERES Y DESGUSTACIONES \nTe esperamos. ✨ \nOrganiza: Estación del Arte Gredos
URL:https://ypsilonoliveoil.com/evento/navidad-en-piedralaves/
LOCATION:Piedralaves\, Plaza Agapito Eloy Lefler\, Piedralaves\, Avila\, 05440\, Spain
ATTACH;FMTTYPE=image/jpeg:https://ypsilonoliveoil.com/wp-content/uploads/2024/12/NAVIDAD-PIEDRALAVES.jpeg
END:VEVENT
BEGIN:VEVENT
DTSTART;TZID=UTC:20241102T110000
DTEND;TZID=UTC:20241102T200000
DTSTAMP:20260422T122808
CREATED:20241031T202529Z
LAST-MODIFIED:20241031T202941Z
UID:2562-1730545200-1730577600@ypsilonoliveoil.com
SUMMARY:HALLOWEEN! Mercado de artesanía en el Prado de San Roque de Piedralaves
DESCRIPTION:🌟 ¡Este sábado 2 de noviembre\, no te lo puedes perder! 🌟 \nEl Ayuntamiento de Piedralaves y la Asociación de Artesanos Estación del Arte Gredos organizan y te invitan a disfrutar de un día lleno de diversión\, artesanía y productos alimenticios en el Prado de San Roque de Piedralaves\, de 11 a 20h \n🍃 YPSILON OLIVE OIL estará presente con sus excelentes productos. 🍃 \n🎉 Tendremos un desfile de disfraces infantil\, gimkana\, laberinto y mucho más! 🎉 \nEs una cita perfecta para compartir momentos inolvidables con la familia y amigos. ¡No faltes y ven a divertirte!
URL:https://ypsilonoliveoil.com/evento/halloween-mercado-de-artesania-en-el-prado-de-san-roque-de-piedralaves/
LOCATION:Piedralaves\, Plaza Agapito Eloy Lefler\, Piedralaves\, Avila\, 05440\, Spain
ATTACH;FMTTYPE=image/jpeg:https://ypsilonoliveoil.com/wp-content/uploads/2024/10/Halloween-Mercado-de-artesania-Piedalaves.jpg
END:VEVENT
BEGIN:VEVENT
DTSTART;TZID=UTC:20241101T120000
DTEND;TZID=UTC:20241103T220000
DTSTAMP:20260422T122808
CREATED:20241031T202746Z
LAST-MODIFIED:20241031T202747Z
UID:2571-1730462400-1730671200@ypsilonoliveoil.com
SUMMARY:XVIII FERIA DE LA CASTAÑA DE CASILLAS
DESCRIPTION:🌰 XVIII FERIA DE LA CASTAÑA \n👉🏻 Aquí tenéis la programación de la XVIII Feria de la Castaña\, que se celebrará durante los días 1\, 2 y 3 de noviembre\, en la Carpa instalada en el Patio del Colegio. \n👉🏻 Podremos disfrutar de una gran variedad de productos artesanos de Casillas y su comarca\, entre los que destacará nuestro producto estrella\, la castaña 🌰 \n📆 1\, 2 y 3 de noviembre\n⏰ 12:00 h.-14 :00 h. 18:00 h.-22:00 h.\n📍 Carpa Patio del Colegio \n👏🏻 ¡Os esperamos! \n📸 VII Concurso Fotografía “El Castaño”\n🎞 “Gotitas sobre trillizas”\, de Amparo Guerra Peinado
URL:https://ypsilonoliveoil.com/evento/xviii-feria-de-la-castana-de-casillas/
LOCATION:Casillas\, Av. de Castilla y León\, 40\, Casillas\, Ávila\, 05428\, Spain
ATTACH;FMTTYPE=image/jpeg:https://ypsilonoliveoil.com/wp-content/uploads/2024/10/Feria-de-la-Castana-de-Casillas.jpg
END:VEVENT
BEGIN:VEVENT
DTSTART;TZID=Europe/Paris:20241101T110000
DTEND;TZID=Europe/Paris:20241103T200000
DTSTAMP:20260422T122808
CREATED:20241031T195450Z
LAST-MODIFIED:20241031T200924Z
UID:2547-1730458800-1730664000@ypsilonoliveoil.com
SUMMARY:Feria de Todos los Santos en La Adrada
DESCRIPTION:Disfruta de un evento repleto de actividades para toda la familia en esta Feria de Todos los Santos. ¡No te lo pierdas! \n✨ Actividades Destacadas: \n👉Puestos de artesanía local y nacional.\n👉Zona de alimentación con una amplia variedad de sabores regionales y nacionales.\n👉Zona recreativa infantil para que los más pequeños se diviertan.\n👉Concursos de canto\, chistes y saltos a caballo para pasar momentos inolvidables.\n👉Homenajes especiales a nuestros ganaderos y a las personas más longevas de la comunidad.\n¡Ven a celebrar la tradición con nosotros y a disfrutar de una feria llena de alegría y autenticidad! \n \n#ñañanatura #ypsilon_olive_oil #laadrada #avila #feriadelossantos #valledeltiietar #jabonesartesanales #aceitedeoliva #españa
URL:https://ypsilonoliveoil.com/evento/feria-de-todos-los-santos-en-la-adrada/
LOCATION:Pistas de La Cotá\, La Adrada\, Pistas de La Cotá\, La Adrada\, Ávila\, 05430\, Spain
ATTACH;FMTTYPE=image/jpeg:https://ypsilonoliveoil.com/wp-content/uploads/2024/10/Feria-de-los-santos-la-Adrada.jpg
END:VEVENT
END:VCALENDAR