BEGIN:VCALENDAR
VERSION:2.0
PRODID:-//Ypsilon Olive Oil - ECPv6.14.1//NONSGML v1.0//EN
CALSCALE:GREGORIAN
METHOD:PUBLISH
X-WR-CALNAME:Ypsilon Olive Oil
X-ORIGINAL-URL:https://ypsilonoliveoil.com
X-WR-CALDESC:Eventos para Ypsilon Olive Oil
REFRESH-INTERVAL;VALUE=DURATION:PT1H
X-Robots-Tag:noindex
X-PUBLISHED-TTL:PT1H
BEGIN:VTIMEZONE
TZID:UTC
BEGIN:STANDARD
TZOFFSETFROM:+0000
TZOFFSETTO:+0000
TZNAME:UTC
DTSTART:20260101T000000
END:STANDARD
END:VTIMEZONE
BEGIN:VEVENT
DTSTART;TZID=UTC:20260502T110000
DTEND;TZID=UTC:20260502T140000
DTSTAMP:20260422T163723
CREATED:20260413T101902Z
LAST-MODIFIED:20260413T101902Z
UID:6145-1777719600-1777730400@ypsilonoliveoil.com
SUMMARY:Cata de AOVE y productos gourmet en "La casa de Pilar" el Sábado 2 de Mayo
DESCRIPTION:El Sábado 2 de Mayo tendrá lugar una exclusiva cata en La Casa de Pilar\, una experiencia pensada para disfrutar de una mañana diferente en torno a la gastronomía y los sabores más selectos. \nLa actividad consistirá en una degustación guiada en la que descubriremos matices\, aromas y sensaciones\, aprendiendo a apreciar cada detalle de los productos presentados en un ambiente cercano y acogedor. \nDurante la cata\, los asistentes podrán disfrutar de una experiencia sensorial completa\, ideal tanto para quienes quieren iniciarse como para quienes ya disfrutan del mundo gourmet. \nAl finalizar la cata\, compartiremos un momento gastronómico con una degustación de productos gourmet\, creando un espacio ideal para disfrutar\, aprender y conversar alrededor de la cultura del aceite de oliva y los productos de cercanía. \n ¿Dónde?\nLa Casa de Pilar\nSotillo de la Adrada \n Cuándo:\nSábado 2 de Mayo \n Hora:\nDe 12:00 a 14:00 \nLas plazas son limitadas\, por lo que es necesario reservar con antelación. \nUna oportunidad perfecta para disfrutar\, aprender y compartir un buen momento alrededor de la gastronomía. \n¡Os esperamos para vivir esta experiencia! \n¿Quieres apuntarte? Llama a Cristina al 686 09 91 22 para reservar tu plaza 
URL:https://ypsilonoliveoil.com/evento/cata-en-la-casa-de-pilar/
LOCATION:La Casa de Pilar\, Av. Madrid\, 20\, Sotillo de la Adrada\, Ávila\, 05420\, Spain
ATTACH;FMTTYPE=image/png:https://ypsilonoliveoil.com/wp-content/uploads/2026/04/Cata-La-casa-de-Pilar-1.png
END:VEVENT
BEGIN:VEVENT
DTSTART;TZID=UTC:20260509T110000
DTEND;TZID=UTC:20260509T130000
DTSTAMP:20260422T163723
CREATED:20260330T110307Z
LAST-MODIFIED:20260413T094404Z
UID:6115-1778324400-1778331600@ypsilonoliveoil.com
SUMMARY:Taller de afieltrado de jabones artesanal con HilandAna
DESCRIPTION:El Sábado 9 de mayo tendrá lugar el curso de afieltrado de jabones a mano en Casa Ypsilon\, una experiencia creativa y artesanal pensada para aprender una técnica original y decorativa que une el cuidado personal con el trabajo manual. \nLa actividad estará guiada por Ana\, de HilandAna\, quien nos acompañará durante todo el proceso de creación y afieltrado\, enseñando paso a paso cómo transformar jabones en piezas únicas mediante el uso de lana y técnicas artesanales. \nDurante el curso descubriremos cómo elaborar jabones afieltrados a mano\, una opción natural\, bonita y sostenible que además aporta una exfoliación suave y agradable para la piel. Será un espacio cercano para aprender\, crear y disfrutar\, compartiendo una mañana de inspiración\, creatividad y bienestar. \n📍 ¿Dónde?\nCasa Ypsilon- C. Cuatro Esquinas\, 45\, 05420 Sotillo de la Adrada\, Ávila \n📅 ¿Cuándo?\nSábado 9 de mayo \n⏰ Hora:\nDe 11:00 a 13:00 h \nUn encuentro perfecto para descubrir una nueva técnica artesanal\, dejar volar la creatividad y llevarte a casa tu propia creación hecha a mano.\nPara reservar ponte en contacto con Ana: 634 56 58 32\n¡Te esperamos para compartir esta experiencia!
URL:https://ypsilonoliveoil.com/evento/taller-de-afieltrado-de-jabones-artesanal-con-hilandana/
LOCATION:Casa Ypsilon\, Calle Cuatro Esquinas\, 45\, Sotillo de la Adrada\, Ávila\, 05420\, Spain
ATTACH;FMTTYPE=image/png:https://ypsilonoliveoil.com/wp-content/uploads/2026/03/Cartel-hilandana-scaled.png
ORGANIZER;CN="HilandAna":MAILTO:hola@hilandana.es
END:VEVENT
BEGIN:VEVENT
DTSTART;TZID=UTC:20260525T160000
DTEND;TZID=UTC:20260529T200000
DTSTAMP:20260422T163723
CREATED:20260413T080250Z
LAST-MODIFIED:20260413T080922Z
UID:6129-1779724800-1780084800@ypsilonoliveoil.com
SUMMARY:Ypsilon participará en el Curso de Agroalimentación Ecológica y Local
DESCRIPTION:🌿 Del 25 al 29 de mayo tendrá lugar el Curso de Agroalimentación Ecológica y Local\, una propuesta formativa pensada para mujeres interesadas en el ámbito agroalimentario\, la producción ecológica y el impulso del desarrollo rural. \nEsta formación se enmarca dentro del programa de FEMUR “EcoRurales: Tierra de mujeres”\, financiado por la Junta de Castilla y León\, y ofrece una oportunidad única para adquirir conocimientos prácticos sobre producción ecológica\, alimentación local y sostenibilidad en el entorno rural. \nDurante el curso se abordarán contenidos de carácter práctico y formativo\, orientados a conocer mejor el sector agroalimentario ecológico y sus posibilidades de desarrollo\, fomentando además el emprendimiento y la participación activa de las mujeres en el medio rural. \nSerá un espacio de aprendizaje\, intercambio y crecimiento\, ideal para descubrir nuevas oportunidades profesionales y ampliar conocimientos en un sector con gran proyección. \n📍 ¿Dónde?\nCentro de Formación Agraria de Ávila \n📅 ¿Cuándo?\nDel 25 al 29 de mayo \n⏰ Horario:\nDe 16:00 a 20:00 h \n🎓 Formación gratuita \n📌 Inscripción:\nLas personas interesadas deberán enviar los siguientes datos:\n• Nombre y apellidos\n• Fecha de nacimiento\n• DNI\n• Localidad y provincia\n• Teléfono de contacto\n• Correo electrónico \n📩 Email: info@ypsilonoliveoil.com\n📲 WhatsApp: 682 720 320 \nLas plazas son limitadas y se asignarán por orden de inscripción. \nUna excelente oportunidad para formarte\, conectar con otras mujeres del entorno rural y profundizar en el mundo de la agroalimentación ecológica y local. \n¡Te esperamos para compartir esta experiencia!
URL:https://ypsilonoliveoil.com/evento/curso-agroalimentacion-ecologica-avila/
LOCATION:Centro de Formación Agraria de Ávila\, Carretera N-110\, km 259\, 05192 La Colilla\, Carretera N-110\, km 259\, 05192 La Colilla\,\, Ávila\, Ávila\, 05192\, Spain
ATTACH;FMTTYPE=image/png:https://ypsilonoliveoil.com/wp-content/uploads/2026/04/e84d69b7.png
ORGANIZER;CN="FEMUR":MAILTO:administracion@femur.es
END:VEVENT
END:VCALENDAR