BEGIN:VCALENDAR
VERSION:2.0
PRODID:-//Ypsilon Olive Oil - ECPv6.14.1//NONSGML v1.0//EN
CALSCALE:GREGORIAN
METHOD:PUBLISH
X-ORIGINAL-URL:https://ypsilonoliveoil.com
X-WR-CALDESC:Eventos para Ypsilon Olive Oil
REFRESH-INTERVAL;VALUE=DURATION:PT1H
X-Robots-Tag:noindex
X-PUBLISHED-TTL:PT1H
BEGIN:VTIMEZONE
TZID:UTC
BEGIN:STANDARD
TZOFFSETFROM:+0000
TZOFFSETTO:+0000
TZNAME:UTC
DTSTART:20260101T000000
END:STANDARD
END:VTIMEZONE
BEGIN:VEVENT
DTSTART;VALUE=DATE:20260321
DTEND;VALUE=DATE:20260322
DTSTAMP:20260422T162436
CREATED:20260316T091415Z
LAST-MODIFIED:20260316T091415Z
UID:6087-1774051200-1774137599@ypsilonoliveoil.com
SUMMARY:Taller: cuida tu piel con cosmética fresca
DESCRIPTION:El próximo 21 de marzo de 2026 tendrá lugar el taller “Cuida tu piel con cosmética fresca” en Casa Ypsilon\, una experiencia pensada para descubrir cómo cuidar la piel de forma natural y consciente utilizando productos frescos y de origen natural. \nLa actividad estará guiada por Natalia Redondo\, asesora de cuidado consciente\, y Neyva Martínez\, especialista en Elaiotecnia. Durante el taller hablaremos sobre yoga facial\, una práctica sencilla y natural para revitalizar la piel\, y sobre el uso de cosmética fresca 100% natural y sin conservantes\, elaborada a partir de ingredientes puros como nuestro aceite de oliva virgen extra ecológico. \nSerá un espacio cercano para aprender\, experimentar y compartir conocimientos sobre el cuidado natural de la piel\, conectando bienestar\, naturaleza y autocuidado. \n📍 ¿Dónde?Casa Ypsilon (Calle Cuatro Esquinas\, 45\, Sotillo de la Adrada\, Ávila) \n🗓 Cuándo:21 de marzo de 2026 \n🕥 Hora:10:30 h \n💶 Inscripción:5 € \nUn encuentro perfecto para descubrir nuevas formas de cuidar tu piel con ingredientes naturales y hábitos conscientes. \n¡Te esperamos para compartir esta experiencia! \n¿Quieres apuntarte?📞 Confirmar asistencia: 696 915 217
URL:https://ypsilonoliveoil.com/evento/taller-cuida-tu-piel-con-cosmetica-fresca/
LOCATION:Casa Ypsilon\, Calle Cuatro Esquinas\, 45\, Sotillo de la Adrada\, Ávila\, 05420\, Spain
ATTACH;FMTTYPE=image/jpeg:https://ypsilonoliveoil.com/wp-content/uploads/2026/03/WhatsApp-Image-2026-03-16-at-09.17.34.jpeg
END:VEVENT
END:VCALENDAR