BEGIN:VCALENDAR
VERSION:2.0
PRODID:-//Ypsilon Olive Oil - ECPv6.14.1//NONSGML v1.0//EN
CALSCALE:GREGORIAN
METHOD:PUBLISH
X-WR-CALNAME:Ypsilon Olive Oil
X-ORIGINAL-URL:https://ypsilonoliveoil.com
X-WR-CALDESC:Eventos para Ypsilon Olive Oil
REFRESH-INTERVAL;VALUE=DURATION:PT1H
X-Robots-Tag:noindex
X-PUBLISHED-TTL:PT1H
BEGIN:VTIMEZONE
TZID:UTC
BEGIN:STANDARD
TZOFFSETFROM:+0000
TZOFFSETTO:+0000
TZNAME:UTC
DTSTART:20260101T000000
END:STANDARD
END:VTIMEZONE
BEGIN:VEVENT
DTSTART;TZID=UTC:20260314T093000
DTEND;TZID=UTC:20260314T173000
DTSTAMP:20260424T101203
CREATED:20260311T085057Z
LAST-MODIFIED:20260316T112948Z
UID:6039-1773480600-1773509400@ypsilonoliveoil.com
SUMMARY:Ypsilon Olive Oil acudirá al evento ''Alma de Olivo'' en el Cortijo La Torre\, Jaén
DESCRIPTION:Este 14 de marzo acudiremos al evento “Mujer Alma de Olivo”\, un encuentro nacional que reúne a mujeres del sector olivarero para compartir experiencias\, conocimientos y proyectos vinculados al mundo del olivar. \nDurante la jornada\, profesionales de diferentes ámbitos del sector se reunirán para dialogar\, aprender unas de otras y visibilizar el papel fundamental que desempeñan las mujeres en la agricultura y\, en especial\, en la cultura del olivo. \n📍 ¿Dónde?\nCortijo La Torre\, Jaén \n🗓 Cuándo:\n14 de marzo \n🕛 Horario:\nDe 9:30 a 17:30 h \n“Mujer Alma de Olivo” reúne a mujeres de distintos puntos de España que comparten una misma pasión: el olivar y el compromiso de impulsar su futuro desde el conocimiento\, la innovación y la colaboración. \nGracias a todas las personas que hacen posible este encuentro y a cada mujer que\, con su trabajo y su experiencia\, sigue fortaleciendo el presente y el futuro del sector olivarero.
URL:https://ypsilonoliveoil.com/evento/encuentro-mujeres-alma-de-olivo/
LOCATION:Cortijo La Torre\, Calle Virgen de la Capilla\, 10-12. Pasaje\, local 2 izquierda\, Jaén\, Jaén\, 23001\, Spain
ATTACH;FMTTYPE=image/jpeg:https://ypsilonoliveoil.com/wp-content/uploads/2026/03/WhatsApp-Image-2026-03-11-at-09.20.17.jpeg
ORGANIZER;CN="Cortijo la Torre":MAILTO:info@cortijolatorre.es
END:VEVENT
END:VCALENDAR