BEGIN:VCALENDAR
VERSION:2.0
PRODID:-//Ypsilon Olive Oil - ECPv6.14.1//NONSGML v1.0//EN
CALSCALE:GREGORIAN
METHOD:PUBLISH
X-ORIGINAL-URL:https://ypsilonoliveoil.com
X-WR-CALDESC:Eventos para Ypsilon Olive Oil
REFRESH-INTERVAL;VALUE=DURATION:PT1H
X-Robots-Tag:noindex
X-PUBLISHED-TTL:PT1H
BEGIN:VTIMEZONE
TZID:UTC
BEGIN:STANDARD
TZOFFSETFROM:+0000
TZOFFSETTO:+0000
TZNAME:UTC
DTSTART:20260101T000000
END:STANDARD
END:VTIMEZONE
BEGIN:VEVENT
DTSTART;TZID=UTC:20260308T190000
DTEND;TZID=UTC:20260308T213000
DTSTAMP:20260424T101915
CREATED:20260309T121827Z
LAST-MODIFIED:20260311T095152Z
UID:6030-1772996400-1773005400@ypsilonoliveoil.com
SUMMARY:El equipo de mujeres que forman Ypsilon ya forman parte del proyecto “Mujeres que hacen Ciudad”. Um proyecto impulsado para que empresarias de Ávila puedan intercambiar experiencias y compartir proyectos\, impulsando el apoyo y la red de colaboración.
DESCRIPTION:Hoy acudimos al evento “Mujeres Emprendedoras”\, un encuentro dedicado a visibilizar proyectos liderados por mujeres y a compartir experiencias\, ideas e inspiración. \nDurante la jornada\, numerosas emprendedoras presentaron sus iniciativas\, dando a conocer sus proyectos y creando un espacio de conexión\, apoyo y crecimiento conjunto. \nUn evento que puso en valor el talento\, la iniciativa y la fuerza del emprendimiento femenino. \n📍 ¿Dónde?La Dulce Parada\, Ávila \n🗓 Cuándo:Domingo\, 8 de marzo \n🕛 Horario:De 19:00 a 21:30 h \nOrganizado por La Dulce Parada\, el encuentro reunió a mujeres con diferentes proyectos que comparten una misma visión: emprender\, crear y aportar valor desde sus propias ideas. \nGracias a todas las personas que hicieron posible este encuentro y a cada mujer que\, con su proyecto\, demuestra que emprender también es construir comunidad. ✨
URL:https://ypsilonoliveoil.com/evento/evento-emprendedoras-avila/
LOCATION:La Dulce Parada\, C. María Antonia de Nebreda\, 14\, Ávila\, Ávila\, 05005\, Spain
ATTACH;FMTTYPE=image/jpeg:https://ypsilonoliveoil.com/wp-content/uploads/2026/03/WhatsApp-Image-2026-03-09-at-12.52.40.jpeg
ORGANIZER;CN="La Dulce Parada":MAILTO:ladulceparada25@gmail.com
END:VEVENT
END:VCALENDAR