BEGIN:VCALENDAR
VERSION:2.0
PRODID:-//Ypsilon Olive Oil - ECPv6.14.1//NONSGML v1.0//EN
CALSCALE:GREGORIAN
METHOD:PUBLISH
X-ORIGINAL-URL:https://ypsilonoliveoil.com
X-WR-CALDESC:Eventos para Ypsilon Olive Oil
REFRESH-INTERVAL;VALUE=DURATION:PT1H
X-Robots-Tag:noindex
X-PUBLISHED-TTL:PT1H
BEGIN:VTIMEZONE
TZID:UTC
BEGIN:STANDARD
TZOFFSETFROM:+0000
TZOFFSETTO:+0000
TZNAME:UTC
DTSTART:20250101T000000
END:STANDARD
END:VTIMEZONE
BEGIN:VEVENT
DTSTART;TZID=UTC:20250803T190000
DTEND;TZID=UTC:20250803T230000
DTSTAMP:20260423T042049
CREATED:20250722T115116Z
LAST-MODIFIED:20250722T115314Z
UID:4661-1754247600-1754262000@ypsilonoliveoil.com
SUMMARY:Ypsilon Olive Oil en el Mercado de Mujeres Rurales con FADEMUR
DESCRIPTION:🫒 Ypsilon Olive Oil en el Mercado de Mujeres Rurales con FADEMUR\nEl próximo 3 de agosto\, Ypsilon Olive Oil estará presente en el Mercado de Mujeres Rurales organizado por FADEMUR\, una iniciativa que pone en valor el trabajo\, el talento y el compromiso de las emprendedoras del mundo rural.\n📍 ¿Dónde? Mozarambroz\, Toledo  \nPlaza de la Constitucion \n📞 Tel: +34 925397502 \n🗓 Cuándo:Domigo 3  de agosto   \n🕙 De 19:00 a 23:00 h. \nDurante esta jornada\, compartiremos espacio con otras mujeres productoras\, artesanas y creadoras\, mostrando lo mejor de nuestros territorios y nuestras historias.Nosotras llevaremos lo que mejor sabemos hacer: aceites de oliva virgen extra con alma. \nDiseño\, tradición y sabor concentrados en cada botella. \n🌿 Conoce nuestra gama de AOVEs monovarietales y aromatizados🎁 Descubre ideas de regalo gourmet✨ Déjate sorprender por nuestra propuesta: un homenaje al olivar\, al paisaje y al cuidado \nEstaremos encantadas de saludarte\, charlar contigo y ofrecerte una degustación de nuestros productos. \n¡Ven a visitarnos y apoya el emprendimiento rural con rostro de mujer!
URL:https://ypsilonoliveoil.com/evento/ypsilon-olive-oil-en-el-mercado-de-mujeres-rurales-con-fademur/
LOCATION:Mozarambroz
CATEGORIES:Espacio Gourmet,gastronomia,Mercado artesano,Sabor,Tradición
ATTACH;FMTTYPE=image/jpeg:https://ypsilonoliveoil.com/wp-content/uploads/2025/07/MOZARAMBROZ.jpeg
END:VEVENT
END:VCALENDAR